BEGIN:VCALENDAR
VERSION:2.0
PRODID:-//Malehealth.ie - ECPv6.6.4.2//NONSGML v1.0//EN
CALSCALE:GREGORIAN
METHOD:PUBLISH
X-ORIGINAL-URL:https://malehealth.ie
X-WR-CALDESC:Events for Malehealth.ie
REFRESH-INTERVAL;VALUE=DURATION:PT1H
X-Robots-Tag:noindex
X-PUBLISHED-TTL:PT1H
BEGIN:VTIMEZONE
TZID:UTC
BEGIN:STANDARD
TZOFFSETFROM:+0000
TZOFFSETTO:+0000
TZNAME:UTC
DTSTART:20250101T000000
END:STANDARD
END:VTIMEZONE
BEGIN:VEVENT
DTSTART;TZID=UTC:20250802T093000
DTEND;TZID=UTC:20250802T110000
DTSTAMP:20260423T135914
CREATED:20180426T131816Z
LAST-MODIFIED:20180426T131816Z
UID:3279-1754127000-1754132400@malehealth.ie
SUMMARY:Avondale Forest parkrun
DESCRIPTION:parkrun is a free timed 5k run.  People can walk\, jog or run it is suitable for all abilities.  All you need to do is register at www.parkrun.ie and print your barcode.  parkrun takes place at 9:30am every Saturday morning.
URL:https://malehealth.ie/event/avondale-forest-parkrun-2025-08-02/
LOCATION:Avondale Forest\, Rathdrum
ATTACH;FMTTYPE=image/png:https://malehealth.ie/wp-content/uploads/2018/04/parkrun.png
ORGANIZER;CN="parkrun":MAILTO:avondaleforesthelpers@parkrun.com
END:VEVENT
BEGIN:VEVENT
DTSTART;TZID=UTC:20250802T093000
DTEND;TZID=UTC:20250802T113000
DTSTAMP:20260423T135914
CREATED:20180426T131858Z
LAST-MODIFIED:20180426T131858Z
UID:3280-1754127000-1754134200@malehealth.ie
SUMMARY:Russborough parkrun
DESCRIPTION:parkrun is a free timed 5k run.  People can walk\, jog or run it is suitable for all abilities.  All you need to do is register at www.parkrun.ie and print your barcode.  parkrun takes place at 9:30am every Saturday morning.
URL:https://malehealth.ie/event/russborough-parkrun-2025-08-02/
LOCATION:Russborough House\, Blessington
ATTACH;FMTTYPE=image/png:https://malehealth.ie/wp-content/uploads/2018/04/parkrun-1.png
ORGANIZER;CN="parkrun":MAILTO:russboroughhelpers@parkrun.com
END:VEVENT
BEGIN:VEVENT
DTSTART;TZID=UTC:20250809T093000
DTEND;TZID=UTC:20250809T110000
DTSTAMP:20260423T135914
CREATED:20180426T131816Z
LAST-MODIFIED:20180426T131816Z
UID:3282-1754731800-1754737200@malehealth.ie
SUMMARY:Avondale Forest parkrun
DESCRIPTION:parkrun is a free timed 5k run.  People can walk\, jog or run it is suitable for all abilities.  All you need to do is register at www.parkrun.ie and print your barcode.  parkrun takes place at 9:30am every Saturday morning.
URL:https://malehealth.ie/event/avondale-forest-parkrun-2025-08-09/
LOCATION:Avondale Forest\, Rathdrum
ATTACH;FMTTYPE=image/png:https://malehealth.ie/wp-content/uploads/2018/04/parkrun.png
ORGANIZER;CN="parkrun":MAILTO:avondaleforesthelpers@parkrun.com
END:VEVENT
BEGIN:VEVENT
DTSTART;TZID=UTC:20250809T093000
DTEND;TZID=UTC:20250809T113000
DTSTAMP:20260423T135914
CREATED:20180426T131858Z
LAST-MODIFIED:20180426T131858Z
UID:3283-1754731800-1754739000@malehealth.ie
SUMMARY:Russborough parkrun
DESCRIPTION:parkrun is a free timed 5k run.  People can walk\, jog or run it is suitable for all abilities.  All you need to do is register at www.parkrun.ie and print your barcode.  parkrun takes place at 9:30am every Saturday morning.
URL:https://malehealth.ie/event/russborough-parkrun-2025-08-09/
LOCATION:Russborough House\, Blessington
ATTACH;FMTTYPE=image/png:https://malehealth.ie/wp-content/uploads/2018/04/parkrun-1.png
ORGANIZER;CN="parkrun":MAILTO:russboroughhelpers@parkrun.com
END:VEVENT
BEGIN:VEVENT
DTSTART;TZID=UTC:20250816T093000
DTEND;TZID=UTC:20250816T110000
DTSTAMP:20260423T135914
CREATED:20180426T131816Z
LAST-MODIFIED:20180426T131816Z
UID:3284-1755336600-1755342000@malehealth.ie
SUMMARY:Avondale Forest parkrun
DESCRIPTION:parkrun is a free timed 5k run.  People can walk\, jog or run it is suitable for all abilities.  All you need to do is register at www.parkrun.ie and print your barcode.  parkrun takes place at 9:30am every Saturday morning.
URL:https://malehealth.ie/event/avondale-forest-parkrun-2025-08-16/
LOCATION:Avondale Forest\, Rathdrum
ATTACH;FMTTYPE=image/png:https://malehealth.ie/wp-content/uploads/2018/04/parkrun.png
ORGANIZER;CN="parkrun":MAILTO:avondaleforesthelpers@parkrun.com
END:VEVENT
BEGIN:VEVENT
DTSTART;TZID=UTC:20250816T093000
DTEND;TZID=UTC:20250816T113000
DTSTAMP:20260423T135914
CREATED:20180426T131858Z
LAST-MODIFIED:20180426T131858Z
UID:3285-1755336600-1755343800@malehealth.ie
SUMMARY:Russborough parkrun
DESCRIPTION:parkrun is a free timed 5k run.  People can walk\, jog or run it is suitable for all abilities.  All you need to do is register at www.parkrun.ie and print your barcode.  parkrun takes place at 9:30am every Saturday morning.
URL:https://malehealth.ie/event/russborough-parkrun-2025-08-16/
LOCATION:Russborough House\, Blessington
ATTACH;FMTTYPE=image/png:https://malehealth.ie/wp-content/uploads/2018/04/parkrun-1.png
ORGANIZER;CN="parkrun":MAILTO:russboroughhelpers@parkrun.com
END:VEVENT
BEGIN:VEVENT
DTSTART;TZID=UTC:20250823T093000
DTEND;TZID=UTC:20250823T110000
DTSTAMP:20260423T135914
CREATED:20180426T131816Z
LAST-MODIFIED:20180426T131816Z
UID:3286-1755941400-1755946800@malehealth.ie
SUMMARY:Avondale Forest parkrun
DESCRIPTION:parkrun is a free timed 5k run.  People can walk\, jog or run it is suitable for all abilities.  All you need to do is register at www.parkrun.ie and print your barcode.  parkrun takes place at 9:30am every Saturday morning.
URL:https://malehealth.ie/event/avondale-forest-parkrun-2025-08-23/
LOCATION:Avondale Forest\, Rathdrum
ATTACH;FMTTYPE=image/png:https://malehealth.ie/wp-content/uploads/2018/04/parkrun.png
ORGANIZER;CN="parkrun":MAILTO:avondaleforesthelpers@parkrun.com
END:VEVENT
BEGIN:VEVENT
DTSTART;TZID=UTC:20250823T093000
DTEND;TZID=UTC:20250823T113000
DTSTAMP:20260423T135914
CREATED:20180426T131858Z
LAST-MODIFIED:20180426T131858Z
UID:3287-1755941400-1755948600@malehealth.ie
SUMMARY:Russborough parkrun
DESCRIPTION:parkrun is a free timed 5k run.  People can walk\, jog or run it is suitable for all abilities.  All you need to do is register at www.parkrun.ie and print your barcode.  parkrun takes place at 9:30am every Saturday morning.
URL:https://malehealth.ie/event/russborough-parkrun-2025-08-23/
LOCATION:Russborough House\, Blessington
ATTACH;FMTTYPE=image/png:https://malehealth.ie/wp-content/uploads/2018/04/parkrun-1.png
ORGANIZER;CN="parkrun":MAILTO:russboroughhelpers@parkrun.com
END:VEVENT
BEGIN:VEVENT
DTSTART;TZID=UTC:20250830T093000
DTEND;TZID=UTC:20250830T110000
DTSTAMP:20260423T135914
CREATED:20180426T131816Z
LAST-MODIFIED:20180426T131816Z
UID:3288-1756546200-1756551600@malehealth.ie
SUMMARY:Avondale Forest parkrun
DESCRIPTION:parkrun is a free timed 5k run.  People can walk\, jog or run it is suitable for all abilities.  All you need to do is register at www.parkrun.ie and print your barcode.  parkrun takes place at 9:30am every Saturday morning.
URL:https://malehealth.ie/event/avondale-forest-parkrun-2025-08-30/
LOCATION:Avondale Forest\, Rathdrum
ATTACH;FMTTYPE=image/png:https://malehealth.ie/wp-content/uploads/2018/04/parkrun.png
ORGANIZER;CN="parkrun":MAILTO:avondaleforesthelpers@parkrun.com
END:VEVENT
BEGIN:VEVENT
DTSTART;TZID=UTC:20250830T093000
DTEND;TZID=UTC:20250830T113000
DTSTAMP:20260423T135914
CREATED:20180426T131858Z
LAST-MODIFIED:20180426T131858Z
UID:3289-1756546200-1756553400@malehealth.ie
SUMMARY:Russborough parkrun
DESCRIPTION:parkrun is a free timed 5k run.  People can walk\, jog or run it is suitable for all abilities.  All you need to do is register at www.parkrun.ie and print your barcode.  parkrun takes place at 9:30am every Saturday morning.
URL:https://malehealth.ie/event/russborough-parkrun-2025-08-30/
LOCATION:Russborough House\, Blessington
ATTACH;FMTTYPE=image/png:https://malehealth.ie/wp-content/uploads/2018/04/parkrun-1.png
ORGANIZER;CN="parkrun":MAILTO:russboroughhelpers@parkrun.com
END:VEVENT
END:VCALENDAR