BEGIN:VCALENDAR
VERSION:2.0
PRODID:-//Malehealth.ie - ECPv6.6.4.2//NONSGML v1.0//EN
CALSCALE:GREGORIAN
METHOD:PUBLISH
X-WR-CALNAME:Malehealth.ie
X-ORIGINAL-URL:https://malehealth.ie
X-WR-CALDESC:Events for Malehealth.ie
REFRESH-INTERVAL;VALUE=DURATION:PT1H
X-Robots-Tag:noindex
X-PUBLISHED-TTL:PT1H
BEGIN:VTIMEZONE
TZID:UTC
BEGIN:STANDARD
TZOFFSETFROM:+0000
TZOFFSETTO:+0000
TZNAME:UTC
DTSTART:20190101T000000
END:STANDARD
END:VTIMEZONE
BEGIN:VEVENT
DTSTART;TZID=UTC:20210412T080000
DTEND;TZID=UTC:20210418T170000
DTSTAMP:20260422T114305
CREATED:20210408T115151Z
LAST-MODIFIED:20210408T115151Z
UID:2882-1618214400-1618765200@malehealth.ie
SUMMARY:National Arthritis Week: 12-18 April
DESCRIPTION:Arthritis Ireland is highlighting the impact that arthritis can have on people’s mental health and wellbeing during National Arthritis Week\, which takes place 12-18 April. \nArthritis Ireland is highlighting the impact that arthritis can have on people’s mental health and wellbeing during National Arthritis Week\, which takes place 12-18 April. \nArthritis is the biggest cause of disability in the country and affects one million people in Ireland. \nFurther information about National Arthritis Week is available on the charity’s website at www.arthritisireland.ie. \nAnyone wishing to support Arthritis Ireland can do so by texting ARTHRITIS to 50300 to donate €4\, or alternatively by making a donation on its website.
URL:https://malehealth.ie/event/national-arthritis-week-12-18-april/
LOCATION:Online
CATEGORIES:Physical Health,Seminar / Talk,Virtual Event
ATTACH;FMTTYPE=image/jpeg:https://malehealth.ie/wp-content/uploads/2021/04/National-Arthritis-Week-e1617882606577.jpg
END:VEVENT
BEGIN:VEVENT
DTSTART;TZID=UTC:20200928T000000
DTEND;TZID=UTC:20201004T000000
DTSTAMP:20260422T114305
CREATED:20200827T141607Z
LAST-MODIFIED:20200827T141607Z
UID:2587-1601251200-1601769600@malehealth.ie
SUMMARY:Cancer Week 2020
DESCRIPTION:CANCER WEEK 2020 – REGISTER YOUR EVENT\nMONDAY 28 SEPTEMBER – SUNDAY 4 OCTOBER 2020\n\n\n\n\n\n\n\n\n\n\nHelp us talk about cancer! Register an event in your workplace\, community\, club\, or organisation please by completing the short registration form below. \n\n\n\n\n\nYour event can be anything related to cancer – from prevention and early detection to treatment and surviving and thriving post-diagnosis. \nThis year events will take place across the country for Cancer Week Ireland to get a national conversation going about cancer. \nHost your own event\, or find out which event you want to attend and show your support!
URL:https://malehealth.ie/event/cancer-week-2020/
LOCATION:Nationwide\, Ireland
CATEGORIES:Physical Health,Screening
ATTACH;FMTTYPE=image/jpeg:https://malehealth.ie/wp-content/uploads/2020/08/headerImage1.jpg
END:VEVENT
BEGIN:VEVENT
DTSTART;VALUE=DATE:20200727
DTEND;VALUE=DATE:20200901
DTSTAMP:20260422T114305
CREATED:20200806T120157Z
LAST-MODIFIED:20200806T120157Z
UID:2512-1595808000-1598918399@malehealth.ie
SUMMARY:Don't Cook Yourself
DESCRIPTION:This summer\, the Marie Keating Foundation and Donal Skehan are asking you to BBQ for life\, and have your BBQ remembered for all the right reasons. \nIreland has one of the highest death rates from melanoma skin cancer in Europe\, and skin cancer is to date\, the most common cancer amongst men in Ireland. \nThis summer\, we are asking you to look after your skin in the Irish sun and start making being SunSmart a part of your everyday routine. \nFor more information about skin cancer and how you can reduce your risk\, visit https://www.mariekeating.ie/dontcookyourself/
URL:https://malehealth.ie/event/dont-cook-yourself-2/
CATEGORIES:Physical Health
ATTACH;FMTTYPE=image/png:https://malehealth.ie/wp-content/uploads/2020/08/Dont-Cook-Yourself-Square.png
ORGANIZER;CN="The Marie Keating Foundation":MAILTO:ahollingsworth@mariekeating.ie
END:VEVENT
BEGIN:VEVENT
DTSTART;TZID=UTC:20200117T080000
DTEND;TZID=UTC:20200117T170000
DTSTAMP:20260422T114305
CREATED:20200117T151106Z
LAST-MODIFIED:20200117T151106Z
UID:2126-1579248000-1579280400@malehealth.ie
SUMMARY:Living Well Beyond Cancer
DESCRIPTION:Living Well Beyond Cancer: A survivorship evening patients of St James Hospital\nOpen invitation to Cancer Survivorship Information Evening for Patients of St. James’s Hospital\, Dublin on Tuesday\, the 4th of February. Family and friends are welcome to attend. \n  \n\nSpeakers on topics such as Physical Activity\, Nutrition. Cancer – related fatigue and more. \n  \nLight refreshments on arrival \n  \n\n\nEnquiries to: 087-7103035 or 087-3956936. See poster for more information.\n\n  \n  \n 
URL:https://malehealth.ie/event/living-well-beyond-cancer/
LOCATION:St James Hospital\, James's St\, Ushers\, Dublin 8\, D08 NHY1\, Ireland
CATEGORIES:Meeting / Networking,Physical Health,Seminar / Talk
ATTACH;FMTTYPE=image/jpeg:https://malehealth.ie/wp-content/uploads/2020/01/St-James-Event-e1579273712590.jpg
END:VEVENT
BEGIN:VEVENT
DTSTART;TZID=UTC:20190906T110000
DTEND;TZID=UTC:20190906T120000
DTSTAMP:20260422T114305
CREATED:20190828T104309Z
LAST-MODIFIED:20190828T104309Z
UID:1880-1567767600-1567771200@malehealth.ie
SUMMARY:Mature Movers National Record Attempt
DESCRIPTION:Meath Local Sports Partnership is aiming to beat the record for the largest chair based exercise to music class in Ireland. \nWe are aiming for 300 PEOPLE on the day to take part in a light seated exercise class. \nWe need you and your group to attend. Bring along a relative or friend to join in the fun! \nThere will be a nominal fee of €5 per person. \nThere will be tea/coffee and biscuits after to celebrate! \nIf you or your group are interested in attending please contact me on 046-9067337
URL:https://malehealth.ie/event/mature-movers-national-record-attempt/
LOCATION:Simonstown GFC\, Proudstown Rd\, Batterstown\, Navan\, Co.Meath
CATEGORIES:Physical Activity,Physical Health,Programme
ATTACH;FMTTYPE=image/jpeg:https://malehealth.ie/wp-content/uploads/2019/08/Mature-Movers-Record.jpg
ORGANIZER;CN="Meath Local Sports Partnership":MAILTO:mlsp@meathcoco.ie
END:VEVENT
END:VCALENDAR